BEGIN:VCALENDAR
VERSION:2.0
PRODID:-//Wailing Women Worldwide - ECPv6.15.20//NONSGML v1.0//EN
CALSCALE:GREGORIAN
METHOD:PUBLISH
X-WR-CALNAME:Wailing Women Worldwide
X-ORIGINAL-URL:https://wailingwomenworldwide.org
X-WR-CALDESC:Events for Wailing Women Worldwide
REFRESH-INTERVAL;VALUE=DURATION:PT1H
X-Robots-Tag:noindex
X-PUBLISHED-TTL:PT1H
BEGIN:VTIMEZONE
TZID:UTC
BEGIN:STANDARD
TZOFFSETFROM:+0000
TZOFFSETTO:+0000
TZNAME:UTC
DTSTART:20200101T000000
END:STANDARD
END:VTIMEZONE
BEGIN:VTIMEZONE
TZID:Atlantic/Azores
BEGIN:DAYLIGHT
TZOFFSETFROM:-0100
TZOFFSETTO:+0000
TZNAME:+00
DTSTART:20220327T010000
END:DAYLIGHT
BEGIN:STANDARD
TZOFFSETFROM:+0000
TZOFFSETTO:-0100
TZNAME:-01
DTSTART:20221030T010000
END:STANDARD
BEGIN:DAYLIGHT
TZOFFSETFROM:-0100
TZOFFSETTO:+0000
TZNAME:+00
DTSTART:20230326T010000
END:DAYLIGHT
BEGIN:STANDARD
TZOFFSETFROM:+0000
TZOFFSETTO:-0100
TZNAME:-01
DTSTART:20231029T010000
END:STANDARD
BEGIN:DAYLIGHT
TZOFFSETFROM:-0100
TZOFFSETTO:+0000
TZNAME:+00
DTSTART:20240331T010000
END:DAYLIGHT
BEGIN:STANDARD
TZOFFSETFROM:+0000
TZOFFSETTO:-0100
TZNAME:-01
DTSTART:20241027T010000
END:STANDARD
END:VTIMEZONE
BEGIN:VEVENT
DTSTART;TZID=UTC:20251113T080000
DTEND;TZID=UTC:20251116T170000
DTSTAMP:20260425T155723
CREATED:20250920T133623Z
LAST-MODIFIED:20250920T133623Z
UID:5293-1763020800-1763312400@wailingwomenworldwide.org
SUMMARY:3rd America Continental Conference
DESCRIPTION:This is going to be another epic and wonderful event that you shouldn’t miss at all. Featuring praise\, prayers and the word
URL:https://wailingwomenworldwide.org/event/3rd-america-continental-conference/
ATTACH;FMTTYPE=image/jpeg:https://wailingwomenworldwide.org/wp-content/uploads/2025/09/8bedb722-f486-4066-af47-3725e792b3b9.jpg
END:VEVENT
BEGIN:VEVENT
DTSTART;TZID=UTC:20250205T080000
DTEND;TZID=UTC:20250208T170000
DTSTAMP:20260425T155723
CREATED:20241206T130222Z
LAST-MODIFIED:20241206T130222Z
UID:5141-1738742400-1739034000@wailingwomenworldwide.org
SUMMARY:15Th International Leadership Submit
DESCRIPTION:This is going to be another epic and wonderful event that you shouldn’t miss at all. Featuring praise\, prayers and the word
URL:https://wailingwomenworldwide.org/event/15th-international-leadership-submit/
ATTACH;FMTTYPE=image/jpeg:https://wailingwomenworldwide.org/wp-content/uploads/2024/12/b0eea405-f5a9-4e43-9750-e317578c2511.jpg
END:VEVENT
BEGIN:VEVENT
DTSTART;TZID=UTC:20241028T100000
DTEND;TZID=UTC:20241031T170000
DTSTAMP:20260425T155723
CREATED:20241023T221112Z
LAST-MODIFIED:20241023T221112Z
UID:4941-1730109600-1730394000@wailingwomenworldwide.org
SUMMARY:4th European Conference
DESCRIPTION:The 4th Wailing Women Worldwide Europe Conference holding in Ireland from the 28 – 30 October\, 2024.  Featuring praise\, prayers and the word.
URL:https://wailingwomenworldwide.org/event/4th-european-conference/
LOCATION:Ireland\, Maldron Hotel\, Dublin 15\, Ireland
ATTACH;FMTTYPE=image/jpeg:https://wailingwomenworldwide.org/wp-content/uploads/2024/10/EU-Conference-2021-b-scaled.jpg
END:VEVENT
BEGIN:VEVENT
DTSTART;TZID=UTC:20240821T080000
DTEND;TZID=UTC:20240825T170000
DTSTAMP:20260425T155723
CREATED:20240820T143551Z
LAST-MODIFIED:20240820T143551Z
UID:4931-1724227200-1724605200@wailingwomenworldwide.org
SUMMARY:National Conference - Wailing Daughters & Sons /Polished Arrows
DESCRIPTION:The National Conference of the Wailing Daughters and Sons as well as Polished Arrows. \nA gathering of the next generation.
URL:https://wailingwomenworldwide.org/event/national-conference-wailing-daughters-sons-polished-arrows/
LOCATION:Abuja\, Baptist High School\, Abuja\, Nigeria
ATTACH;FMTTYPE=image/jpeg:https://wailingwomenworldwide.org/wp-content/uploads/2024/08/455647210_901874661973714_2010688732651799571_n.jpg
END:VEVENT
BEGIN:VEVENT
DTSTART;TZID=UTC:20240804T090000
DTEND;TZID=UTC:20240810T180000
DTSTAMP:20260425T155723
CREATED:20240520T094047Z
LAST-MODIFIED:20240625T130039Z
UID:4835-1722762000-1723312800@wailingwomenworldwide.org
SUMMARY:24th International Conference
DESCRIPTION:click here to register now \nThe 24th International Conference of the Wailing Women Worldwide. Women Intercessors for the Church and the Nations. A gathering of the Lord’s endtime warriors! \nFeaturing\, Worship\, Praise\, Teachings\, Workshops\, Trainings\, Medical Outreach and many more!!
URL:https://wailingwomenworldwide.org/event/24th-international-conference/
LOCATION:The City of Refuge\, Abara Etche\, River State\, 512101\, Nigeria
ATTACH;FMTTYPE=image/jpeg:https://wailingwomenworldwide.org/wp-content/uploads/2024/05/Flyers-and-posters.jpg
ORGANIZER;CN="Wailing Women Worldwide":MAILTO:wailingwomenheadoffice@gmail.com
END:VEVENT
BEGIN:VEVENT
DTSTART;TZID=UTC:20240207T100000
DTEND;TZID=UTC:20240210T180000
DTSTAMP:20260425T155723
CREATED:20231123T215720Z
LAST-MODIFIED:20231123T223213Z
UID:4820-1707300000-1707588000@wailingwomenworldwide.org
SUMMARY:2024 International Leadership Summit\, Toronto\, Canada
DESCRIPTION:The Leadership Summit is a Global gathering of Wailing Women Leaders from Nations around the World. It affords us the opportunity to know the Mind of God for different Nations for the year and serves as a Training Ground for all Leaders\, so that our operations in Nations can be streamlined\, and we can bond together in unity\, have one goal and one focus.
URL:https://wailingwomenworldwide.org/event/2024-international-leadership-summit-toronto-canada/
LOCATION:Sandman Signature Mississauga\, Toronto Canada\, 5400 Dixie Rd\, Mississauga\, Toronto\, Canada
ATTACH;FMTTYPE=image/jpeg:https://wailingwomenworldwide.org/wp-content/uploads/2023/11/CANADA-2024-SUMMIT-FINAL-for-web.jpg
ORGANIZER;CN="Wailing Women Worldwide":MAILTO:wailingwomenheadoffice@gmail.com
END:VEVENT
BEGIN:VEVENT
DTSTART;TZID=UTC:20231006T080000
DTEND;TZID=UTC:20231008T170000
DTSTAMP:20260425T155723
CREATED:20231003T144016Z
LAST-MODIFIED:20231003T144016Z
UID:4810-1696579200-1696784400@wailingwomenworldwide.org
SUMMARY:National Conference for Men Aglow
DESCRIPTION:A time to merry in the house of God
URL:https://wailingwomenworldwide.org/event/national-conference-for-men-aglow/
LOCATION:Owen’s House\, Plot 3\, Ned Mojuetan Street\, Beside Cooperative Villa\, Off Badore Road\, Ajah\, Lekki\, Nigeria\, 23401\, Nigeria
ATTACH;FMTTYPE=image/jpeg:https://wailingwomenworldwide.org/wp-content/uploads/2023/08/WWW-2023-CONFE-LOGO-3-8.jpg
ORGANIZER;CN="Men Aglow":MAILTO:info@wailingwomenworldwide.org
END:VEVENT
BEGIN:VEVENT
DTSTART;VALUE=DATE:20231031
DTEND;VALUE=DATE:20231101
DTSTAMP:20260425T155723
CREATED:20230811T093110Z
LAST-MODIFIED:20230811T093450Z
UID:4763-1698710400-1698796799@wailingwomenworldwide.org
SUMMARY:10th Africa Continental Conference
DESCRIPTION:You’re invited to the 10th Africa Continental Conference of Wailing Women Worldwide\, themed “Behold I Make All Things New”.
URL:https://wailingwomenworldwide.org/event/10th-africa-continental-conference/
LOCATION:Egypt
ATTACH;FMTTYPE=image/jpeg:https://wailingwomenworldwide.org/wp-content/uploads/2023/08/WWW-2023-CONFE-LOGO-3-8.jpg
ORGANIZER;CN="Wailing Women Worldwide":MAILTO:wailingwomenheadoffice@gmail.com
END:VEVENT
BEGIN:VEVENT
DTSTART;TZID=UTC:20230806T080000
DTEND;TZID=UTC:20230812T170000
DTSTAMP:20260425T155723
CREATED:20230711T152928Z
LAST-MODIFIED:20230805T072711Z
UID:1706-1691308800-1691859600@wailingwomenworldwide.org
SUMMARY:Wailing Women 25th Anniversary
DESCRIPTION:Join us for an unforgettable evening as we mark a momentous milestone – the 25th anniversary of the Wailing Women Worldwide organisation! \nCLICK TO REGISTER
URL:https://wailingwomenworldwide.org/event/25th-anniversary/
LOCATION:The City of Refuge\, Abara Etche\, River State\, 512101\, Nigeria
ATTACH;FMTTYPE=image/jpeg:https://wailingwomenworldwide.org/wp-content/uploads/2023/07/WWW-2023-CONFE-LOGO-3-8.jpg
ORGANIZER;CN="Wailing Women Worldwide":MAILTO:wailingwomenheadoffice@gmail.com
END:VEVENT
BEGIN:VEVENT
DTSTART;TZID=UTC:20230806T080000
DTEND;TZID=UTC:20230812T170000
DTSTAMP:20260425T155723
CREATED:20230711T143034Z
LAST-MODIFIED:20230805T072802Z
UID:1631-1691308800-1691859600@wailingwomenworldwide.org
SUMMARY:23rd International Conference
DESCRIPTION:We are thrilled to announce the inaugural conference of Wailing Women Worldwide\, a global movement dedicated to empowering women through the transformative power of music and storytelling. \nCLICK TO REGISTER
URL:https://wailingwomenworldwide.org/event/23rd-international-conference/
LOCATION:The City of Refuge\, Abara Etche\, River State\, 512101\, Nigeria
ATTACH;FMTTYPE=image/jpeg:https://wailingwomenworldwide.org/wp-content/uploads/2023/07/WWW-2023-CONFE-LOGO-3-10.jpg
ORGANIZER;CN="Wailing Women Worldwide":MAILTO:wailingwomenheadoffice@gmail.com
END:VEVENT
BEGIN:VEVENT
DTSTART;TZID=UTC:20230727T080000
DTEND;TZID=UTC:20230729T170000
DTSTAMP:20260425T155723
CREATED:20230712T112744Z
LAST-MODIFIED:20230805T075237Z
UID:1993-1690444800-1690650000@wailingwomenworldwide.org
SUMMARY:1st National Conference of Wailing Sons & Daughters (Niger Republic)
DESCRIPTION:Link in with us for the first national conference of the Wailing Daughters and Sons Niger. Watch this space for more details.
URL:https://wailingwomenworldwide.org/event/1st-national-conference-of-wailing-sons-daughters-niger-republic/
LOCATION:Internationale Mission Church of Christ\, Niamey 2000 District\, Niamey\, Niamey\, Niger
ATTACH;FMTTYPE=image/jpeg:https://wailingwomenworldwide.org/wp-content/uploads/2023/07/Niger_republic_conference.jpg
ORGANIZER;CN="Wailing Women Worldwide":MAILTO:wailingwomenheadoffice@gmail.com
END:VEVENT
BEGIN:VEVENT
DTSTART;TZID=UTC:20230713T120000
DTEND;TZID=UTC:20231231T120000
DTSTAMP:20260425T155723
CREATED:20230712T114317Z
LAST-MODIFIED:20230805T075253Z
UID:1999-1689249600-1704024000@wailingwomenworldwide.org
SUMMARY:Noon Hour Nourish
DESCRIPTION:Join us on Zoom for GTA Noon Hour Nourish. Empowerment for your calling! \n12 noon (West Africa Time) \nMon – Fri \nZOOM DETAILS \nZoom ID: 86516389593\nCode: 464791
URL:https://wailingwomenworldwide.org/event/noon-hour-nourish/
ATTACH;FMTTYPE=image/jpeg:https://wailingwomenworldwide.org/wp-content/uploads/2023/07/Noon-Nourish-Event.jpeg
ORGANIZER;CN="Wailing Women Worldwide":MAILTO:wailingwomenheadoffice@gmail.com
END:VEVENT
BEGIN:VEVENT
DTSTART;TZID=UTC:20230705T080000
DTEND;TZID=UTC:20230708T170000
DTSTAMP:20260425T155723
CREATED:20230718T091326Z
LAST-MODIFIED:20230805T075303Z
UID:2937-1688544000-1688835600@wailingwomenworldwide.org
SUMMARY:3rd International Conference
DESCRIPTION:“Join Wailing Daughters and Sons/Polished Arrows for our 13th International Conference\, as we explore the empowering theme ‘You are a Chosen Generation.’ Unite with like-minded individuals in an inspiring event of growth\, faith\, and purpose.
URL:https://wailingwomenworldwide.org/event/3rd-international-conference/
LOCATION:Refreshing Mountain Retreat & Adventure Center\, 455 Camp Rd\, Stevens\, Lancaster\, PA\, 17578\, United States
ATTACH;FMTTYPE=image/jpeg:https://wailingwomenworldwide.org/wp-content/uploads/2023/07/Wailing-Daughters-and-Sons_Polished-Arrows.jpg
ORGANIZER;CN="Wailing Women Worldwide":MAILTO:wailingwomenheadoffice@gmail.com
END:VEVENT
BEGIN:VEVENT
DTSTART;TZID=UTC:20230621T080000
DTEND;TZID=UTC:20230625T170000
DTSTAMP:20260425T155723
CREATED:20230718T085658Z
LAST-MODIFIED:20230805T075314Z
UID:2915-1687334400-1687712400@wailingwomenworldwide.org
SUMMARY:19th Annual National Conference
DESCRIPTION:Join us for an inspiring and transformative gathering of prayerful women\, empowering hearts and igniting souls at our 19th Annual National Conference. The theme would be “This Gospel of the Kingdom (Matt. 24:14).”
URL:https://wailingwomenworldwide.org/event/19th-annual-national-conference/
LOCATION:Louisville Marriott East\, 1903 Embassy Square Blvd\, Louisville\, KY\, 40299\, United States
ATTACH;FMTTYPE=image/jpeg:https://wailingwomenworldwide.org/wp-content/uploads/2023/07/USA-Conference.jpg
ORGANIZER;CN="Wailing Women Worldwide":MAILTO:wailingwomenheadoffice@gmail.com
END:VEVENT
BEGIN:VEVENT
DTSTART;TZID=UTC:20210210T080000
DTEND;TZID=UTC:20210214T170000
DTSTAMP:20260425T155723
CREATED:20230711T161648Z
LAST-MODIFIED:20230805T075325Z
UID:1752-1612944000-1613322000@wailingwomenworldwide.org
SUMMARY:2021 Leadership Summit
DESCRIPTION:The Leadership Summit is a Global gathering of Wailing Women Leaders from Nations around the World.\nIt serves as a Training Ground for all Leaders.\nIt is always a time to sit together at The Lord’s Feet\, to receive strategic direction for the move in the year.\n\nThe 2021 Summit will be both onsite in Yaounde and online.
URL:https://wailingwomenworldwide.org/event/2021-leadership-summit/
LOCATION:Internationale Mission Church of Christ\, Niamey 2000 District\, Niamey\, Niamey\, Niger
ATTACH;FMTTYPE=image/webp:https://wailingwomenworldwide.org/wp-content/uploads/2023/07/2021-International-Leadership-Summit-Flier.webp
ORGANIZER;CN="Wailing Women Worldwide":MAILTO:wailingwomenheadoffice@gmail.com
END:VEVENT
END:VCALENDAR