BEGIN:VCALENDAR
VERSION:2.0
PRODID:-//Wailing Women Worldwide - ECPv6.15.20//NONSGML v1.0//EN
CALSCALE:GREGORIAN
METHOD:PUBLISH
X-WR-CALNAME:Wailing Women Worldwide
X-ORIGINAL-URL:https://wailingwomenworldwide.org
X-WR-CALDESC:Events for Wailing Women Worldwide
REFRESH-INTERVAL;VALUE=DURATION:PT1H
X-Robots-Tag:noindex
X-PUBLISHED-TTL:PT1H
BEGIN:VTIMEZONE
TZID:UTC
BEGIN:STANDARD
TZOFFSETFROM:+0000
TZOFFSETTO:+0000
TZNAME:UTC
DTSTART:20250101T000000
END:STANDARD
END:VTIMEZONE
BEGIN:VEVENT
DTSTART;TZID=UTC:20260727T080000
DTEND;TZID=UTC:20260729T170000
DTSTAMP:20260423T122815
CREATED:20260319T143637Z
LAST-MODIFIED:20260319T143637Z
UID:5311-1785139200-1785344400@wailingwomenworldwide.org
SUMMARY:Pre-International-Conference crusade
DESCRIPTION:This is going to be another epic and wonderful event that you shouldn’t miss at…
URL:https://wailingwomenworldwide.org/event/pre-international-conference-crusade/
ATTACH;FMTTYPE=image/jpeg:https://wailingwomenworldwide.org/wp-content/uploads/2026/03/WhatsApp-Image-2026-03-19-at-10.49.37-AM.jpeg
END:VEVENT
END:VCALENDAR