BEGIN:VCALENDAR
VERSION:2.0
PRODID:-//Wailing Women Worldwide - ECPv6.15.20//NONSGML v1.0//EN
CALSCALE:GREGORIAN
METHOD:PUBLISH
X-WR-CALNAME:Wailing Women Worldwide
X-ORIGINAL-URL:https://wailingwomenworldwide.org
X-WR-CALDESC:Events for Wailing Women Worldwide
REFRESH-INTERVAL;VALUE=DURATION:PT1H
X-Robots-Tag:noindex
X-PUBLISHED-TTL:PT1H
BEGIN:VTIMEZONE
TZID:UTC
BEGIN:STANDARD
TZOFFSETFROM:+0000
TZOFFSETTO:+0000
TZNAME:UTC
DTSTART:20230101T000000
END:STANDARD
END:VTIMEZONE
BEGIN:VEVENT
DTSTART;TZID=UTC:20241028T100000
DTEND;TZID=UTC:20241031T170000
DTSTAMP:20260425T223301
CREATED:20241023T221112Z
LAST-MODIFIED:20241023T221112Z
UID:4941-1730109600-1730394000@wailingwomenworldwide.org
SUMMARY:4th European Conference
DESCRIPTION:The 4th Wailing Women Worldwide Europe Conference holding in Ireland from the 28 – 30 October\, 2024.  Featuring praise\, prayers and the word.
URL:https://wailingwomenworldwide.org/event/4th-european-conference/
LOCATION:Ireland\, Maldron Hotel\, Dublin 15\, Ireland
ATTACH;FMTTYPE=image/jpeg:https://wailingwomenworldwide.org/wp-content/uploads/2024/10/EU-Conference-2021-b-scaled.jpg
END:VEVENT
END:VCALENDAR