BEGIN:VCALENDAR
VERSION:2.0
PRODID:-//Wailing Women Worldwide - ECPv6.15.20//NONSGML v1.0//EN
CALSCALE:GREGORIAN
METHOD:PUBLISH
X-WR-CALNAME:Wailing Women Worldwide
X-ORIGINAL-URL:https://wailingwomenworldwide.org
X-WR-CALDESC:Events for Wailing Women Worldwide
REFRESH-INTERVAL;VALUE=DURATION:PT1H
X-Robots-Tag:noindex
X-PUBLISHED-TTL:PT1H
BEGIN:VTIMEZONE
TZID:UTC
BEGIN:STANDARD
TZOFFSETFROM:+0000
TZOFFSETTO:+0000
TZNAME:UTC
DTSTART:20230101T000000
END:STANDARD
END:VTIMEZONE
BEGIN:VEVENT
DTSTART;TZID=UTC:20240804T090000
DTEND;TZID=UTC:20240810T180000
DTSTAMP:20260426T033102
CREATED:20240520T094047Z
LAST-MODIFIED:20240625T130039Z
UID:4835-1722762000-1723312800@wailingwomenworldwide.org
SUMMARY:24th International Conference
DESCRIPTION:click here to register now \nThe 24th International Conference of the Wailing Women Worldwide. Women Intercessors for the Church and the Nations. A gathering of the Lord’s endtime warriors! \nFeaturing\, Worship\, Praise\, Teachings\, Workshops\, Trainings\, Medical Outreach and many more!!
URL:https://wailingwomenworldwide.org/event/24th-international-conference/
LOCATION:The City of Refuge\, Abara Etche\, River State\, 512101\, Nigeria
ATTACH;FMTTYPE=image/jpeg:https://wailingwomenworldwide.org/wp-content/uploads/2024/05/Flyers-and-posters.jpg
ORGANIZER;CN="Wailing Women Worldwide":MAILTO:wailingwomenheadoffice@gmail.com
END:VEVENT
END:VCALENDAR